View In:
ArcGIS JavaScript
ArcGIS Online map viewer
ArcGIS Earth
Service Description: swissimage 50cm - Morteratsch
murj
Name: module_basics_nm3/swissimage_morteratsch50cm
Description: swissimage 50cm - Morteratsch
murj
Single Fused Map Cache: false
Extent:
XMin: 2787749.758735887
YMin: 1139849.6705813615
XMax: 2796200.258735887
YMax: 1148200.1705813615
Spatial Reference: 2056
(2056)
LatestVCSWkid(0)
Initial Extent:
XMin: 2787749.758735887
YMin: 1139849.6705813615
XMax: 2796200.258735887
YMax: 1148200.1705813615
Spatial Reference: 2056
(2056)
LatestVCSWkid(0)
Full Extent:
XMin: 2787749.758735887
YMin: 1139849.6705813615
XMax: 2796200.258735887
YMax: 1148200.1705813615
Spatial Reference: 2056
(2056)
LatestVCSWkid(0)
Pixel Size X: 0.5
Pixel Size Y: 0.5
Band Count: 3
Pixel Type: U8
RasterFunction Infos: {"rasterFunctionInfos": [{
"name": "None",
"description": "",
"help": ""
}]}
Mensuration Capabilities: Basic
Inspection Capabilities:
Has Histograms: true
Has Colormap: false
Has Multi Dimensions : false
Rendering Rule:
Min Scale: 0
Max Scale: 0
Copyright Text:
Service Data Type: esriImageServiceDataTypeRGB
Min Values: 0, 0, 0
Max Values: 255, 255, 255
Mean Values: 134.70011313987, 135.39581868013, 131.65145043268
Standard Deviation Values: 58.929979339562, 57.604617721643, 50.117839835324
Object ID Field:
Fields:
None
Default Mosaic Method: Center
Allowed Mosaic Methods:
SortField:
SortValue: null
Mosaic Operator: First
Default Compression Quality: 75
Default Resampling Method: Bilinear
Max Record Count: null
Max Image Height: 4100
Max Image Width: 15000
Max Download Image Count: null
Max Mosaic Image Count: null
Allow Raster Function: true
Allow Copy: true
Allow Analysis: true
Allow Compute TiePoints: false
Supports Statistics: false
Supports Advanced Queries: false
Use StandardizedQueries: true
Raster Type Infos:
Name: Raster Dataset
Description: Supports all ArcGIS Raster Datasets
Help:
Has Raster Attribute Table: false
Edit Fields Info: null
Ownership Based AccessControl For Rasters: null
Child Resources:
Info
Histograms
Statistics
Key Properties
Legend
Raster Function Infos
Supported Operations:
Export Image
Identify
Measure
Compute Histograms
Compute Statistics Histograms
Get Samples
Compute Class Statistics
Query Boundary
Compute Pixel Location
Compute Angles
Validate
Project