View In:
ArcGIS JavaScript
ArcGIS Online map viewer
ArcGIS Earth
Service Description: murj
Name: module_basics_nm3/swissimage_25cm
Description: murj
Single Fused Map Cache: false
Extent:
XMin: 2691029.6329379845
YMin: 1228176.2219056836
XMax: 2697150.4683267735
YMax: 1233639.4943064558
Spatial Reference: 2056
(2056)
LatestVCSWkid(0)
Initial Extent:
XMin: 2691029.6329379845
YMin: 1228176.2219056836
XMax: 2697150.4683267735
YMax: 1233639.4943064558
Spatial Reference: 2056
(2056)
LatestVCSWkid(0)
Full Extent:
XMin: 2691029.6329379845
YMin: 1228176.2219056836
XMax: 2697150.4683267735
YMax: 1233639.4943064558
Spatial Reference: 2056
(2056)
LatestVCSWkid(0)
Pixel Size X: 0.25000348767671254
Pixel Size Y: 0.2500010250662243
Band Count: 3
Pixel Type: U8
RasterFunction Infos: {"rasterFunctionInfos": [{
"name": "None",
"description": "",
"help": ""
}]}
Mensuration Capabilities: Basic
Inspection Capabilities:
Has Histograms: true
Has Colormap: false
Has Multi Dimensions : false
Rendering Rule:
Min Scale: 0
Max Scale: 0
Copyright Text:
Service Data Type: esriImageServiceDataTypeRGB
Min Values: 0, 0, 0
Max Values: 255, 255, 255
Mean Values: 85.12165709266885, 104.21571800350911, 90.2288804937292
Standard Deviation Values: 45.16786191149978, 43.09264161393667, 35.25694652250741
Object ID Field:
Fields:
None
Default Mosaic Method: Center
Allowed Mosaic Methods:
SortField:
SortValue: null
Mosaic Operator: First
Default Compression Quality: 75
Default Resampling Method: Bilinear
Max Record Count: null
Max Image Height: 4100
Max Image Width: 15000
Max Download Image Count: null
Max Mosaic Image Count: null
Allow Raster Function: true
Allow Copy: true
Allow Analysis: true
Allow Compute TiePoints: false
Supports Statistics: false
Supports Advanced Queries: false
Use StandardizedQueries: true
Raster Type Infos:
Name: Raster Dataset
Description: Supports all ArcGIS Raster Datasets
Help:
Has Raster Attribute Table: false
Edit Fields Info: null
Ownership Based AccessControl For Rasters: null
Child Resources:
Info
Histograms
Statistics
Key Properties
Legend
Raster Function Infos
Supported Operations:
Export Image
Identify
Measure
Compute Histograms
Compute Statistics Histograms
Get Samples
Compute Class Statistics
Query Boundary
Compute Pixel Location
Compute Angles
Validate
Project