View In:
ArcGIS JavaScript
ArcGIS Online map viewer
ArcGIS Earth
Service Description: murj
Name: module_basics_nm3/geological_map_lv95
Description: murj
Single Fused Map Cache: false
Extent:
XMin: 2787891.728171445
YMin: 1140026.8238735332
XMax: 2794973.233371445
YMax: 1149789.3056235332
Spatial Reference: 2056
(2056)
VCSWkid(5728)
LatestVCSWkid(5728)
Initial Extent:
XMin: 2787891.728171445
YMin: 1140026.8238735332
XMax: 2794973.233371445
YMax: 1149789.3056235332
Spatial Reference: 2056
(2056)
VCSWkid(5728)
LatestVCSWkid(5728)
Full Extent:
XMin: 2787891.728171445
YMin: 1140026.8238735332
XMax: 2794973.233371445
YMax: 1149789.3056235332
Spatial Reference: 2056
(2056)
VCSWkid(5728)
LatestVCSWkid(5728)
Pixel Size X: 2.117675000000004
Pixel Size Y: 2.1176750000000077
Band Count: 4
Pixel Type: U16
RasterFunction Infos: {"rasterFunctionInfos": [{
"name": "None",
"description": "",
"help": ""
}]}
Mensuration Capabilities: Basic
Inspection Capabilities:
Has Histograms: true
Has Colormap: false
Has Multi Dimensions : false
Rendering Rule:
Min Scale: 0
Max Scale: 0
Copyright Text:
Service Data Type: esriImageServiceDataTypeGeneric
Min Values: 0, 0, 0, 0
Max Values: 255, 255, 255, 255
Mean Values: 187.38045985662, 171.85980919985, 164.93591239702, 254.49814092501
Standard Deviation Values: 68.311843857914, 74.445814895792, 72.171244192681, 9.1625868541585
Object ID Field:
Fields:
None
Default Mosaic Method: Center
Allowed Mosaic Methods:
SortField:
SortValue: null
Mosaic Operator: First
Default Compression Quality: 75
Default Resampling Method: Bilinear
Max Record Count: null
Max Image Height: 4100
Max Image Width: 15000
Max Download Image Count: null
Max Mosaic Image Count: null
Allow Raster Function: true
Allow Copy: true
Allow Analysis: true
Allow Compute TiePoints: false
Supports Statistics: false
Supports Advanced Queries: false
Use StandardizedQueries: true
Raster Type Infos:
Name: Raster Dataset
Description: Supports all ArcGIS Raster Datasets
Help:
Has Raster Attribute Table: false
Edit Fields Info: null
Ownership Based AccessControl For Rasters: null
Child Resources:
Info
Histograms
Statistics
Key Properties
Legend
Raster Function Infos
Supported Operations:
Export Image
Identify
Measure
Compute Histograms
Compute Statistics Histograms
Get Samples
Compute Class Statistics
Query Boundary
Compute Pixel Location
Compute Angles
Validate
Project