View In:
ArcGIS JavaScript
ArcGIS Online map viewer
ArcGIS Earth
Service Description: module_basics_nm3/band1_swissimage_1bit
Name: module_basics_nm3/band1_swissimage_1bit
Description:
Single Fused Map Cache: false
Extent:
XMin: 2691029.6329379845
YMin: 1228176.2219056836
XMax: 2697150.658035706
YMax: 1233639.4943064558
Spatial Reference: 2056
(2056)
LatestVCSWkid(0)
Initial Extent:
XMin: 2691029.6329379845
YMin: 1228176.2219056836
XMax: 2697150.658035706
YMax: 1233639.4943064558
Spatial Reference: 2056
(2056)
LatestVCSWkid(0)
Full Extent:
XMin: 2691029.6329379845
YMin: 1228176.2219056836
XMax: 2697150.658035706
YMax: 1233639.4943064558
Spatial Reference: 2056
(2056)
LatestVCSWkid(0)
Pixel Size X: 0.25000102506621696
Pixel Size Y: 0.2500010250662243
Band Count: 1
Pixel Type: U1
RasterFunction Infos: {"rasterFunctionInfos": [{
"name": "None",
"description": "",
"help": ""
}]}
Mensuration Capabilities: Basic
Inspection Capabilities:
Has Histograms: true
Has Colormap: false
Has Multi Dimensions : false
Rendering Rule:
Min Scale: 0
Max Scale: 0
Copyright Text:
Service Data Type: esriImageServiceDataTypeGeneric
Min Values: 0
Max Values: 1
Mean Values: 0.19111405628335404
Standard Deviation Values: 0.39317867956339486
Object ID Field:
Fields:
None
Default Mosaic Method: Center
Allowed Mosaic Methods:
SortField:
SortValue: null
Mosaic Operator: First
Default Compression Quality: 75
Default Resampling Method: Bilinear
Max Record Count: null
Max Image Height: 4100
Max Image Width: 15000
Max Download Image Count: null
Max Mosaic Image Count: null
Allow Raster Function: true
Allow Copy: true
Allow Analysis: true
Allow Compute TiePoints: false
Supports Statistics: false
Supports Advanced Queries: false
Use StandardizedQueries: true
Raster Type Infos:
Name: Raster Dataset
Description: Supports all ArcGIS Raster Datasets
Help:
Has Raster Attribute Table: false
Edit Fields Info: null
Ownership Based AccessControl For Rasters: null
Child Resources:
Info
Histograms
Statistics
Key Properties
Legend
Raster Function Infos
Supported Operations:
Export Image
Identify
Measure
Compute Histograms
Compute Statistics Histograms
Get Samples
Compute Class Statistics
Query Boundary
Compute Pixel Location
Compute Angles
Validate
Project