View In:
ArcGIS JavaScript
ArcGIS Online map viewer
ArcGIS Earth
Service Description: murj
Name: module_basics_nm3/Sentinel_RGB_Composit_120m
Description: murj
Single Fused Map Cache: false
Extent:
XMin: 399960.0
YMin: 5190240.0
XMax: 509760.0
YMax: 5300040.0
Spatial Reference: 32632
(32632)
LatestVCSWkid(0)
Initial Extent:
XMin: 399960.0
YMin: 5190240.0
XMax: 509760.0
YMax: 5300040.0
Spatial Reference: 32632
(32632)
LatestVCSWkid(0)
Full Extent:
XMin: 399960.0
YMin: 5190240.0
XMax: 509760.0
YMax: 5300040.0
Spatial Reference: 32632
(32632)
LatestVCSWkid(0)
Pixel Size X: 120.0
Pixel Size Y: 120.0
Band Count: 3
Pixel Type: U16
RasterFunction Infos: {"rasterFunctionInfos": [{
"name": "None",
"description": "",
"help": ""
}]}
Mensuration Capabilities: Basic
Inspection Capabilities:
Has Histograms: true
Has Colormap: false
Has Multi Dimensions : false
Rendering Rule:
Min Scale: 0
Max Scale: 0
Copyright Text:
Service Data Type: esriImageServiceDataTypeGeneric
Min Values: 1, 0, 0
Max Values: 16248, 16848, 17776
Mean Values: 423.81897100540476, 547.9026569918481, 362.5180590641703
Standard Deviation Values: 413.48139778472904, 352.70838905014443, 302.07322637749377
Object ID Field:
Fields:
None
Default Mosaic Method: Center
Allowed Mosaic Methods:
SortField:
SortValue: null
Mosaic Operator: First
Default Compression Quality: 75
Default Resampling Method: Bilinear
Max Record Count: null
Max Image Height: 4100
Max Image Width: 15000
Max Download Image Count: null
Max Mosaic Image Count: null
Allow Raster Function: true
Allow Copy: true
Allow Analysis: true
Allow Compute TiePoints: false
Supports Statistics: false
Supports Advanced Queries: false
Use StandardizedQueries: true
Raster Type Infos:
Name: Raster Dataset
Description: Supports all ArcGIS Raster Datasets
Help:
Has Raster Attribute Table: false
Edit Fields Info: null
Ownership Based AccessControl For Rasters: null
Child Resources:
Info
Histograms
Statistics
Key Properties
Legend
Raster Function Infos
Supported Operations:
Export Image
Identify
Measure
Compute Histograms
Compute Statistics Histograms
Get Samples
Compute Class Statistics
Query Boundary
Compute Pixel Location
Compute Angles
Validate
Project