View In:
ArcGIS JavaScript
ArcGIS Online map viewer
ArcGIS Earth
Service Description: GrĂ¼ental Orthophoto, April 2020 Drohnenaufnahme: murj, rahn
Name: Basis-Inhalte/orthophoto_gruental_3857_20200415
Description: GrĂ¼ental Orthophoto, April 2020 Drohnenaufnahme: murj, rahn
Single Fused Map Cache: false
Extent:
XMin: 965804.8782337888
YMin: 5977155.504453779
XMax: 966902.7596337887
YMax: 5978321.721813779
Spatial Reference: 102100
(3857)
LatestVCSWkid(0)
Initial Extent:
XMin: 965804.8782337888
YMin: 5977155.504453779
XMax: 966902.7596337887
YMax: 5978321.721813779
Spatial Reference: 102100
(3857)
LatestVCSWkid(0)
Full Extent:
XMin: 965804.8782337888
YMin: 5977155.504453779
XMax: 966902.7596337887
YMax: 5978321.721813779
Spatial Reference: 102100
(3857)
LatestVCSWkid(0)
Pixel Size X: 0.033879999999998606
Pixel Size Y: 0.033880000000003664
Band Count: 4
Pixel Type: U8
RasterFunction Infos: {"rasterFunctionInfos": [{
"name": "None",
"description": "",
"help": ""
}]}
Mensuration Capabilities: Basic
Inspection Capabilities:
Has Histograms: true
Has Colormap: false
Has Multi Dimensions : false
Rendering Rule:
Min Scale: 0
Max Scale: 0
Copyright Text:
Service Data Type: esriImageServiceDataTypeGeneric
Min Values: 0, 0, 0, 0
Max Values: 255, 255, 255, 255
Mean Values: 82.886128524224, 90.028774262092, 66.836320595201, 169.91767425338
Standard Deviation Values: 73.555757421123, 75.256570339635, 65.90088548553, 120.23722769548
Object ID Field:
Fields:
None
Default Mosaic Method: Center
Allowed Mosaic Methods:
SortField:
SortValue: null
Mosaic Operator: First
Default Compression Quality: 75
Default Resampling Method: Bilinear
Max Record Count: null
Max Image Height: 4100
Max Image Width: 15000
Max Download Image Count: null
Max Mosaic Image Count: null
Allow Raster Function: true
Allow Copy: true
Allow Analysis: true
Allow Compute TiePoints: false
Supports Statistics: false
Supports Advanced Queries: false
Use StandardizedQueries: true
Raster Type Infos:
Name: Raster Dataset
Description: Supports all ArcGIS Raster Datasets
Help:
Has Raster Attribute Table: false
Edit Fields Info: null
Ownership Based AccessControl For Rasters: null
Child Resources:
Info
Histograms
Statistics
Key Properties
Legend
Raster Function Infos
Supported Operations:
Export Image
Identify
Measure
Compute Histograms
Compute Statistics Histograms
Get Samples
Compute Class Statistics
Query Boundary
Compute Pixel Location
Compute Angles
Validate
Project