View In:
ArcGIS JavaScript
ArcGIS Online map viewer
ArcGIS Earth
Service Description: orthophoto, campus grĂ¼ental, stand: april 2018
Name: Basis-Inhalte/gruental_rgb_ch1903plus_2018
Description: orthophoto, campus grĂ¼ental, stand: april 2018
Single Fused Map Cache: false
Extent:
XMin: 2693827.622035052
YMin: 1230080.6104825914
XMax: 2694540.932035052
YMax: 1230739.0204825914
Spatial Reference: 2056
(2056)
LatestVCSWkid(0)
Initial Extent:
XMin: 2693827.622035052
YMin: 1230080.6104825914
XMax: 2694540.932035052
YMax: 1230739.0204825914
Spatial Reference: 2056
(2056)
LatestVCSWkid(0)
Full Extent:
XMin: 2693827.622035052
YMin: 1230080.6104825914
XMax: 2694540.932035052
YMax: 1230739.0204825914
Spatial Reference: 2056
(2056)
LatestVCSWkid(0)
Pixel Size X: 0.03000000000000235
Pixel Size Y: 0.029999999999996182
Band Count: 4
Pixel Type: U8
RasterFunction Infos: {"rasterFunctionInfos": [{
"name": "None",
"description": "",
"help": ""
}]}
Mensuration Capabilities: Basic
Inspection Capabilities:
Has Histograms: true
Has Colormap: false
Has Multi Dimensions : false
Rendering Rule:
Min Scale: 0
Max Scale: 0
Copyright Text:
Service Data Type: esriImageServiceDataTypeGeneric
Min Values: 0, 0, 0, 0
Max Values: 255, 255, 255, 255
Mean Values: 71.894755931891, 75.904298448652, 57.160233143127, 139.40514199409
Standard Deviation Values: 72.152682402246, 74.61427808529, 61.811288137341, 126.94296997069
Object ID Field:
Fields:
None
Default Mosaic Method: Center
Allowed Mosaic Methods:
SortField:
SortValue: null
Mosaic Operator: First
Default Compression Quality: 75
Default Resampling Method: Bilinear
Max Record Count: null
Max Image Height: 4100
Max Image Width: 15000
Max Download Image Count: null
Max Mosaic Image Count: null
Allow Raster Function: true
Allow Copy: true
Allow Analysis: true
Allow Compute TiePoints: false
Supports Statistics: false
Supports Advanced Queries: false
Use StandardizedQueries: true
Raster Type Infos:
Name: Raster Dataset
Description: Supports all ArcGIS Raster Datasets
Help:
Has Raster Attribute Table: false
Edit Fields Info: null
Ownership Based AccessControl For Rasters: null
Child Resources:
Info
Histograms
Statistics
Key Properties
Legend
Raster Function Infos
Supported Operations:
Export Image
Identify
Measure
Compute Histograms
Compute Statistics Histograms
Get Samples
Compute Class Statistics
Query Boundary
Compute Pixel Location
Compute Angles
Validate
Project